Workbook

Sheet Form
B10: 1 | C10: Número do Projeto | L10: Data de Solicitação
B12: 2 | C12: Dados para emissão da NF
C13: Cliente | L13: Tel.
C14: CNPJ/CPF | J14: IE/RG
C15: Logradouro
C16: Núm. | F16: Complemento
C17: Bairro | L17: CEP
C18: Cidade | I18: UF | L18: País
C19: E-mail | K19: Tel. Celular
C20: Pessoa para contato | K20: Cargo
C21: O Cliente possuí data limite para recebimento (entrada) de nota fiscal?
D22: Qual o prazo máximo para recebimento?
B24: 3 | C24: Detalhes do serviços a serem faturados
C25: Descrição do serviço | J25: Qtde | L25: Valor unitário | N25: Valor total
N26: =IFERROR(J26*L26,"Valores incorretos") -> 0
N27: =IFERROR(J27*L27,"Valores incorretos") -> 0
N28: =IFERROR(J28*L28,"Valores incorretos") -> 0
N29: =IFERROR(J29*L29,"Valores incorretos") -> 0
N30: =IFERROR(J30*L30,"Valores incorretos") -> 0
L31: Valor total da Guia: | N31: =SUM(N26:O30) -> 0
C32: Forma de Pagamento acordada com o cliente
C33: Boleto com prazo de vencimento em | K33: dias. (Mínimo de 5 dias)
C34: Depósito Bancário. Prazo de vencimento da Nota Fiscal | K34: dias. (Mínimo de 5 dias)
C35: Depósito Bancário (à vista) | J35: (enviar comprovante)
B37: 4 | C37: Informações adicionais que vem constar na descrição da Nota Fiscal
C38: (Ex.: n. do pedido, n. de compra, n. de processo FAPESP, etc...)
B43: 5 | C43: Coordenador responsável
C44: Na condição de coordenador responsável, assumo inteira responsabilidade pela veracidade das informações aqui apresentadas e autorizo o processamento desse faturamento.
C45: Nome Completo:
C46: Departamento:
B48: FR 01 - CRE - Ver 01 | E48: FEALQ - Fundação de Estudos Agrários Luiz de Queiroz | N48: pág. 1 de 1
E49: Tel.: (19) 3417-6600

Sheet Dados
A1: Faturamento
B2: proj | D2: CPF OU CNPJ | E2: nome | F2: email | G2: data 1 | J2: data 2 | K2: data 3 | L2: data 4 | M2: VALOR | N2: vcto | P2: OBS | Q2: pgto
B3: =Form!D10 -> 0 | D3: =Form!D14 -> 0 | E3: =Form!D13 -> 0 | F3: =Form!D19 -> 0 | G3: =TODAY() -> 45684 | J3: =G3+N3 -> 45684 | K3: =G3 -> 45684 | L3: =J3 -> 45684 | M3: =Form!N31 -> 0 | N3: =IF(Form!J33="",Form!J34,Form!J33) -> 0 | P3: =Form!C26 & " " & Form!C27 & " " & Form!C28 & " " & Form!C29 & " " & Form!C30 & " " & Form!C39 | Q3: =IF(Form!J33="",IF(Form!J34="","","86"),"75")
A5: Cadastro
A6: Nome | C6: Telefone | D6: E-Mail | E6: Celular | F6: CNPJ/CPF | I6: Endereço | J6: Número | K6: Complemento | L6: CEP
A7: =Form!D13 -> 0 | C7: =Form!M13 -> 0 | D7: =Form!D19 -> 0 | E7: =Form!M19 -> 0 | F7: =Form!D14 -> 0 | I7: =Form!D15 -> 0 | J7: =Form!D16 -> 0 | K7: =Form!H16 -> 0 | L7: =Form!M17 -> 0
M8: Bairro | N8: Cidade | O8: UF | P8: Pais
M9: =Form!D17 -> 0 | N9: =Form!D18 -> 0 | O9: =Form!J18 -> 0 | P9: =Form!M18 -> 0
